BEGIN:VCALENDAR
VERSION:2.0
PRODID:-//hacksw/handcal//NONSGML v1.0//EN
BEGIN:VEVENT
SUMMARY:Entrainement U13 F
UID:9fb82947-eee4-465c-b438-c06a61296611
DTSTART:20250129T170000Z
DTEND:20250129T181500Z
LOCATION:Localisation Gymnase Pierre Bodet 16000 Angouleme
CATEGORIES:Entrainement
STATUS:
URL;VALUE=URI:https://www.angoulemebasketclub.fr/evenements/2025/01/29/entrainement-u13-f-2089396
END:VEVENT
END:VCALENDAR
