BEGIN:VCALENDAR
VERSION:2.0
PRODID:-//hacksw/handcal//NONSGML v1.0//EN
BEGIN:VEVENT
SUMMARY:Entrainement U13 A et B
UID:0f7c5cb3-b6b6-45e1-a22e-c7074b34533e
DTSTART:20250129T174500Z
DTEND:20250129T193000Z
LOCATION:Salle Pierre de Coubertin 74 rue de la Tresoriere 16000 ANGOULEME
CATEGORIES:Entrainement
STATUS:
URL;VALUE=URI:https://www.angoulemebasketclub.fr/evenements/2025/01/29/entrainement-u13-a-et-b-2089323
END:VEVENT
END:VCALENDAR
