BEGIN:VCALENDAR
VERSION:2.0
PRODID:-//hacksw/handcal//NONSGML v1.0//EN
BEGIN:VEVENT
SUMMARY:Entrainement RM3
UID:0480363f-7fda-4c8b-93a9-a5599c58af08
DTSTART:20250129T193000Z
DTEND:20250129T210000Z
LOCATION:Localisation   
CATEGORIES:Entrainement
STATUS:
URL;VALUE=URI:https://www.angoulemebasketclub.fr/evenements/2025/01/29/entrainement-rm3-2089360
END:VEVENT
END:VCALENDAR
