BEGIN:VCALENDAR
VERSION:2.0
PRODID:-//hacksw/handcal//NONSGML v1.0//EN
BEGIN:VEVENT
SUMMARY:Entrainement DM2
UID:b95297f0-c712-44c2-b7b9-7cba8933020e
DTSTART:20250129T193000Z
DTEND:20250129T213000Z
LOCATION:Localisation Gymnase Pierre Bodet 16000 Angouleme
CATEGORIES:Entrainement
STATUS:
URL;VALUE=URI:https://www.angoulemebasketclub.fr/evenements/2025/01/29/entrainement-dm2-2089467
END:VEVENT
END:VCALENDAR
