BEGIN:VCALENDAR
VERSION:2.0
PRODID:-//hacksw/handcal//NONSGML v1.0//EN
BEGIN:VEVENT
SUMMARY:Entrainement Loisirs
UID:589a0aa1-a525-4923-a187-fad39422eb7c
DTSTART:20250128T200000Z
DTEND:20250128T213000Z
LOCATION:Salle Pierre de Coubertin 74 rue de la Tresoriere 16000 ANGOULEME
CATEGORIES:Entrainement
STATUS:
URL;VALUE=URI:https://www.angoulemebasketclub.fr/evenements/2025/01/28/entrainement-loisirs-2089216
END:VEVENT
END:VCALENDAR
