BEGIN:VCALENDAR
VERSION:2.0
PRODID:-//hacksw/handcal//NONSGML v1.0//EN
BEGIN:VEVENT
SUMMARY:Entrainement DM1 et DM2
UID:e8b90557-c063-464e-b7b8-36191d38d086
DTSTART:20250128T181500Z
DTEND:20250128T200000Z
LOCATION:Salle Pierre de Coubertin 74 rue de la Tresoriere 16000 ANGOULEME
CATEGORIES:Entrainement
STATUS:
URL;VALUE=URI:https://www.angoulemebasketclub.fr/evenements/2025/01/28/entrainement-dm1-et-dm2-2089182
END:VEVENT
END:VCALENDAR
