BEGIN:VCALENDAR
VERSION:2.0
PRODID:-//hacksw/handcal//NONSGML v1.0//EN
BEGIN:VEVENT
SUMMARY:Entrainement U13 F
UID:e535d4b6-d300-4b6d-9926-e96958b60f54
DTSTART:20250127T171500Z
DTEND:20250127T190000Z
LOCATION:Salle Pierre de Coubertin 74 rue de la Tresoriere 16000 ANGOULEME
CATEGORIES:Entrainement
STATUS:
URL;VALUE=URI:https://www.angoulemebasketclub.fr/evenements/2025/01/27/entrainement-u13-f-2089066
END:VEVENT
END:VCALENDAR
