BEGIN:VCALENDAR
VERSION:2.0
PRODID:-//hacksw/handcal//NONSGML v1.0//EN
BEGIN:VEVENT
SUMMARY:Entrainement U13 A
UID:27aed10e-03ef-426b-8d5c-ad8e97ceb172
DTSTART:20250127T170000Z
DTEND:20250127T190000Z
LOCATION:Localisation Gymnase Pierre Bodet 16000 Angouleme
CATEGORIES:Entrainement
STATUS:
URL;VALUE=URI:https://www.angoulemebasketclub.fr/evenements/2025/01/27/entrainement-u13-a-2089100
END:VEVENT
END:VCALENDAR
