BEGIN:VCALENDAR
VERSION:2.0
PRODID:-//hacksw/handcal//NONSGML v1.0//EN
BEGIN:VEVENT
SUMMARY:Entrainement U18 G
UID:c25fcc56-75cd-4294-8bd9-d686d4e7ff64
DTSTART:20250124T170000Z
DTEND:20250124T190000Z
LOCATION:Localisation Gymnase de la Grande Garenne 16000 Angouleme
CATEGORIES:Entrainement
STATUS:
URL;VALUE=URI:https://www.angoulemebasketclub.fr/evenements/2025/01/24/entrainement-u18-g-2090138
END:VEVENT
END:VCALENDAR
