BEGIN:VCALENDAR
VERSION:2.0
PRODID:-//hacksw/handcal//NONSGML v1.0//EN
BEGIN:VEVENT
SUMMARY:Entrainement U11 A et B
UID:65431925-4e57-4e72-bb80-2b21827fdcbc
DTSTART:20250124T170000Z
DTEND:20250124T181500Z
LOCATION:Salle Pierre de Coubertin 74 rue de la Tresoriere 16000 ANGOULEME
CATEGORIES:Entrainement
STATUS:
URL;VALUE=URI:https://www.angoulemebasketclub.fr/evenements/2025/01/24/entrainement-u11-a-et-b-2090026
END:VEVENT
END:VCALENDAR
