BEGIN:VCALENDAR
VERSION:2.0
PRODID:-//hacksw/handcal//NONSGML v1.0//EN
BEGIN:VEVENT
SUMMARY:Entrainement U18 1 et 2
UID:f3f4ba77-ff9a-44c0-9985-3127c5fbc0ee
DTSTART:20250123T181500Z
DTEND:20250123T193000Z
LOCATION:Salle Pierre de Coubertin 74 rue de la Tresoriere 16000 ANGOULEME
CATEGORIES:Entrainement
STATUS:
URL;VALUE=URI:https://www.angoulemebasketclub.fr/evenements/2025/01/23/entrainement-u18-1-et-2-2089964
END:VEVENT
END:VCALENDAR
