BEGIN:VCALENDAR
VERSION:2.0
PRODID:-//hacksw/handcal//NONSGML v1.0//EN
BEGIN:VEVENT
SUMMARY:Entrainement U18 F
UID:bfca4f3d-fee6-4232-9260-218aadb90b2f
DTSTART:20250122T161500Z
DTEND:20250122T174500Z
LOCATION:Salle Pierre de Coubertin 74 rue de la Tresoriere 16000 ANGOULEME
CATEGORIES:Entrainement
STATUS:
URL;VALUE=URI:https://www.angoulemebasketclub.fr/evenements/2025/01/22/entrainement-u18-f-2089287
END:VEVENT
END:VCALENDAR
