BEGIN:VCALENDAR
VERSION:2.0
PRODID:-//hacksw/handcal//NONSGML v1.0//EN
BEGIN:VEVENT
SUMMARY:Entrainement RM3
UID:72ab0ace-2362-4fd9-8778-d56249f38b56
DTSTART:20250122T193000Z
DTEND:20250122T210000Z
LOCATION:Localisation   
CATEGORIES:Entrainement
STATUS:
URL;VALUE=URI:https://www.angoulemebasketclub.fr/evenements/2025/01/22/entrainement-rm3-2089359
END:VEVENT
END:VCALENDAR
