BEGIN:VCALENDAR
VERSION:2.0
PRODID:-//hacksw/handcal//NONSGML v1.0//EN
BEGIN:VEVENT
SUMMARY:Entrainement U13 B
UID:7c79b944-62de-448b-b386-3ef079319706
DTSTART:20250121T170000Z
DTEND:20250121T181500Z
LOCATION:Salle Pierre de Coubertin 74 rue de la Tresoriere 16000 ANGOULEME
CATEGORIES:Entrainement
STATUS:
URL;VALUE=URI:https://www.angoulemebasketclub.fr/evenements/2025/01/21/entrainement-u13-b-2089132
END:VEVENT
END:VCALENDAR
