BEGIN:VCALENDAR
VERSION:2.0
PRODID:-//hacksw/handcal//NONSGML v1.0//EN
BEGIN:VEVENT
SUMMARY:Entrainement DM1 et DM2
UID:06dbae6d-7e0b-4bc8-b668-54c321739905
DTSTART:20250121T181500Z
DTEND:20250121T200000Z
LOCATION:Salle Pierre de Coubertin 74 rue de la Tresoriere 16000 ANGOULEME
CATEGORIES:Entrainement
STATUS:
URL;VALUE=URI:https://www.angoulemebasketclub.fr/evenements/2025/01/21/entrainement-dm1-et-dm2-2089181
END:VEVENT
END:VCALENDAR
