BEGIN:VCALENDAR
VERSION:2.0
PRODID:-//hacksw/handcal//NONSGML v1.0//EN
BEGIN:VEVENT
SUMMARY:Entrainement U13 F
UID:fdb85339-9492-46bc-951a-137ff1b864a2
DTSTART:20250120T171500Z
DTEND:20250120T190000Z
LOCATION:Salle Pierre de Coubertin 74 rue de la Tresoriere 16000 ANGOULEME
CATEGORIES:Entrainement
STATUS:
URL;VALUE=URI:https://www.angoulemebasketclub.fr/evenements/2025/01/20/entrainement-u13-f-2089065
END:VEVENT
END:VCALENDAR
