BEGIN:VCALENDAR
VERSION:2.0
PRODID:-//hacksw/handcal//NONSGML v1.0//EN
BEGIN:VEVENT
SUMMARY:Entrainement Baby
UID:cb963ef8-f82c-4efc-9456-ee431c31a0d6
DTSTART:20250118T083000Z
DTEND:20250118T093000Z
LOCATION:Localisation Gymnase Pierre Bodet 16000 Angouleme
CATEGORIES:Entrainement
STATUS:
URL;VALUE=URI:https://www.angoulemebasketclub.fr/evenements/2025/01/18/entrainement-baby-2090174
END:VEVENT
END:VCALENDAR
