BEGIN:VCALENDAR
VERSION:2.0
PRODID:-//hacksw/handcal//NONSGML v1.0//EN
BEGIN:VEVENT
SUMMARY:Entrainement U11 A et B
UID:1f34e915-4254-4837-b883-0657a601f079
DTSTART:20250117T170000Z
DTEND:20250117T181500Z
LOCATION:Salle Pierre de Coubertin 74 rue de la Tresoriere 16000 ANGOULEME
CATEGORIES:Entrainement
STATUS:
URL;VALUE=URI:https://www.angoulemebasketclub.fr/evenements/2025/01/17/entrainement-u11-a-et-b-2090025
END:VEVENT
END:VCALENDAR
