BEGIN:VCALENDAR
VERSION:2.0
PRODID:-//hacksw/handcal//NONSGML v1.0//EN
BEGIN:VEVENT
SUMMARY:Entrainement U18 1 et 2
UID:0707edf1-6eeb-44e7-9055-e580b64f3244
DTSTART:20250116T181500Z
DTEND:20250116T193000Z
LOCATION:Salle Pierre de Coubertin 74 rue de la Tresoriere 16000 ANGOULEME
CATEGORIES:Entrainement
STATUS:
URL;VALUE=URI:https://www.angoulemebasketclub.fr/evenements/2025/01/16/entrainement-u18-1-et-2-2089963
END:VEVENT
END:VCALENDAR
