BEGIN:VCALENDAR
VERSION:2.0
PRODID:-//hacksw/handcal//NONSGML v1.0//EN
BEGIN:VEVENT
SUMMARY:Entrainement U18 F
UID:4a31dc52-46eb-4358-84ad-3df804b084c5
DTSTART:20250115T161500Z
DTEND:20250115T174500Z
LOCATION:Salle Pierre de Coubertin 74 rue de la Tresoriere 16000 ANGOULEME
CATEGORIES:Entrainement
STATUS:
URL;VALUE=URI:https://www.angoulemebasketclub.fr/evenements/2025/01/15/entrainement-u18-f-2089286
END:VEVENT
END:VCALENDAR
