BEGIN:VCALENDAR
VERSION:2.0
PRODID:-//hacksw/handcal//NONSGML v1.0//EN
BEGIN:VEVENT
SUMMARY:Entrainement U13 F
UID:18027b6d-63b9-49a5-8e5f-7e67575f645a
DTSTART:20250115T170000Z
DTEND:20250115T181500Z
LOCATION:Localisation Gymnase Pierre Bodet 16000 Angouleme
CATEGORIES:Entrainement
STATUS:
URL;VALUE=URI:https://www.angoulemebasketclub.fr/evenements/2025/01/15/entrainement-u13-f-2089394
END:VEVENT
END:VCALENDAR
