BEGIN:VCALENDAR
VERSION:2.0
PRODID:-//hacksw/handcal//NONSGML v1.0//EN
BEGIN:VEVENT
SUMMARY:Entrainement RM3
UID:b1d1251e-b5b0-4c80-8188-bba51e168501
DTSTART:20250115T193000Z
DTEND:20250115T210000Z
LOCATION:Localisation   
CATEGORIES:Entrainement
STATUS:
URL;VALUE=URI:https://www.angoulemebasketclub.fr/evenements/2025/01/15/entrainement-rm3-2089358
END:VEVENT
END:VCALENDAR
