BEGIN:VCALENDAR
VERSION:2.0
PRODID:-//hacksw/handcal//NONSGML v1.0//EN
BEGIN:VEVENT
SUMMARY:Entrainement DM2
UID:cbd1dd5e-e107-4a96-91d9-3f383fe1b3f9
DTSTART:20250115T193000Z
DTEND:20250115T213000Z
LOCATION:Localisation Gymnase Pierre Bodet 16000 Angouleme
CATEGORIES:Entrainement
STATUS:
URL;VALUE=URI:https://www.angoulemebasketclub.fr/evenements/2025/01/15/entrainement-dm2-2089465
END:VEVENT
END:VCALENDAR
