BEGIN:VCALENDAR
VERSION:2.0
PRODID:-//hacksw/handcal//NONSGML v1.0//EN
BEGIN:VEVENT
SUMMARY:Entrainement U13 B
UID:5d22811d-6d29-40c2-94e3-63f4fa38fbcb
DTSTART:20250114T170000Z
DTEND:20250114T181500Z
LOCATION:Salle Pierre de Coubertin 74 rue de la Tresoriere 16000 ANGOULEME
CATEGORIES:Entrainement
STATUS:
URL;VALUE=URI:https://www.angoulemebasketclub.fr/evenements/2025/01/14/entrainement-u13-b-2089131
END:VEVENT
END:VCALENDAR
