BEGIN:VCALENDAR
VERSION:2.0
PRODID:-//hacksw/handcal//NONSGML v1.0//EN
BEGIN:VEVENT
SUMMARY:Entrainement DM1 et DM2
UID:3e22ab71-0894-4803-ace3-c3ba7ea25a86
DTSTART:20250114T181500Z
DTEND:20250114T200000Z
LOCATION:Salle Pierre de Coubertin 74 rue de la Tresoriere 16000 ANGOULEME
CATEGORIES:Entrainement
STATUS:
URL;VALUE=URI:https://www.angoulemebasketclub.fr/evenements/2025/01/14/entrainement-dm1-et-dm2-2089180
END:VEVENT
END:VCALENDAR
