BEGIN:VCALENDAR
VERSION:2.0
PRODID:-//hacksw/handcal//NONSGML v1.0//EN
BEGIN:VEVENT
SUMMARY:Entrainement U13 F
UID:0a7a7f3e-58c1-4ed2-b6ab-0df4f41cd7d4
DTSTART:20250113T171500Z
DTEND:20250113T190000Z
LOCATION:Salle Pierre de Coubertin 74 rue de la Tresoriere 16000 ANGOULEME
CATEGORIES:Entrainement
STATUS:
URL;VALUE=URI:https://www.angoulemebasketclub.fr/evenements/2025/01/13/entrainement-u13-f-2089064
END:VEVENT
END:VCALENDAR
