BEGIN:VCALENDAR
VERSION:2.0
PRODID:-//hacksw/handcal//NONSGML v1.0//EN
BEGIN:VEVENT
SUMMARY:Entrainement U13 A
UID:5dbaa0dc-5fe6-4a49-aadd-af956845a117
DTSTART:20250113T170000Z
DTEND:20250113T190000Z
LOCATION:Localisation Gymnase Pierre Bodet 16000 Angouleme
CATEGORIES:Entrainement
STATUS:
URL;VALUE=URI:https://www.angoulemebasketclub.fr/evenements/2025/01/13/entrainement-u13-a-2089098
END:VEVENT
END:VCALENDAR
