BEGIN:VCALENDAR
VERSION:2.0
PRODID:-//hacksw/handcal//NONSGML v1.0//EN
BEGIN:VEVENT
SUMMARY:Entrainement Baby
UID:5dabffab-2628-4fbf-9670-ffe598b2e213
DTSTART:20250111T083000Z
DTEND:20250111T093000Z
LOCATION:Localisation Gymnase Pierre Bodet 16000 Angouleme
CATEGORIES:Entrainement
STATUS:
URL;VALUE=URI:https://www.angoulemebasketclub.fr/evenements/2025/01/11/entrainement-baby-2090173
END:VEVENT
END:VCALENDAR
