BEGIN:VCALENDAR
VERSION:2.0
PRODID:-//hacksw/handcal//NONSGML v1.0//EN
BEGIN:VEVENT
SUMMARY:Entrainement U18 G
UID:027fa57b-eade-4784-888f-a69b5334c031
DTSTART:20250110T170000Z
DTEND:20250110T190000Z
LOCATION:Localisation Gymnase de la Grande Garenne 16000 Angouleme
CATEGORIES:Entrainement
STATUS:
URL;VALUE=URI:https://www.angoulemebasketclub.fr/evenements/2025/01/10/entrainement-u18-g-2090135
END:VEVENT
END:VCALENDAR
