BEGIN:VCALENDAR
VERSION:2.0
PRODID:-//hacksw/handcal//NONSGML v1.0//EN
BEGIN:VEVENT
SUMMARY:Entrainement U11 A et B
UID:c5ce934e-e788-410c-a4cf-c7c8ea06092f
DTSTART:20250110T170000Z
DTEND:20250110T181500Z
LOCATION:Salle Pierre de Coubertin 74 rue de la Tresoriere 16000 ANGOULEME
CATEGORIES:Entrainement
STATUS:
URL;VALUE=URI:https://www.angoulemebasketclub.fr/evenements/2025/01/10/entrainement-u11-a-et-b-2090024
END:VEVENT
END:VCALENDAR
