BEGIN:VCALENDAR
VERSION:2.0
PRODID:-//hacksw/handcal//NONSGML v1.0//EN
BEGIN:VEVENT
SUMMARY:Entrainement DM1
UID:86ebaaa3-513f-4ee6-8312-43d53ebc5196
DTSTART:20250110T194500Z
DTEND:20250110T210000Z
LOCATION:Salle Pierre de Coubertin 74 rue de la Tresoriere 16000 ANGOULEME
CATEGORIES:Entrainement
STATUS:
URL;VALUE=URI:https://www.angoulemebasketclub.fr/evenements/2025/01/10/entrainement-dm1-2090098
END:VEVENT
END:VCALENDAR
