BEGIN:VCALENDAR
VERSION:2.0
PRODID:-//hacksw/handcal//NONSGML v1.0//EN
BEGIN:VEVENT
SUMMARY:Entrainement U9 - U11
UID:07201583-4b13-4e74-9871-4861f025464f
DTSTART:20250108T150000Z
DTEND:20250108T161500Z
LOCATION:Salle Pierre de Coubertin 74 rue de la Tresoriere 16000 ANGOULEME
CATEGORIES:Entrainement
STATUS:
URL;VALUE=URI:https://www.angoulemebasketclub.fr/evenements/2025/01/08/entrainement-u9-u11-2089246
END:VEVENT
END:VCALENDAR
