BEGIN:VCALENDAR
VERSION:2.0
PRODID:-//hacksw/handcal//NONSGML v1.0//EN
BEGIN:VEVENT
SUMMARY:Entrainement U15 2
UID:c7a8078a-102b-4d24-8f4e-edde3533a8a7
DTSTART:20250108T181500Z
DTEND:20250108T193000Z
LOCATION:Localisation Gymnase Pierre Bodet 16000 Angouleme
CATEGORIES:Entrainement
STATUS:
URL;VALUE=URI:https://www.angoulemebasketclub.fr/evenements/2025/01/08/entrainement-u15-2-2089426
END:VEVENT
END:VCALENDAR
