BEGIN:VCALENDAR
VERSION:2.0
PRODID:-//hacksw/handcal//NONSGML v1.0//EN
BEGIN:VEVENT
SUMMARY:Entrainement U13 A et B
UID:744ed9b1-58eb-4e1c-be10-d949a96ae8d2
DTSTART:20250108T174500Z
DTEND:20250108T193000Z
LOCATION:Salle Pierre de Coubertin 74 rue de la Tresoriere 16000 ANGOULEME
CATEGORIES:Entrainement
STATUS:
URL;VALUE=URI:https://www.angoulemebasketclub.fr/evenements/2025/01/08/entrainement-u13-a-et-b-2089320
END:VEVENT
END:VCALENDAR
