BEGIN:VCALENDAR
VERSION:2.0
PRODID:-//hacksw/handcal//NONSGML v1.0//EN
BEGIN:VEVENT
SUMMARY:Entrainement U13 B
UID:f3f0cba6-be7d-403f-9370-baa5f0f9a820
DTSTART:20250107T170000Z
DTEND:20250107T181500Z
LOCATION:Salle Pierre de Coubertin 74 rue de la Tresoriere 16000 ANGOULEME
CATEGORIES:Entrainement
STATUS:
URL;VALUE=URI:https://www.angoulemebasketclub.fr/evenements/2025/01/07/entrainement-u13-b-2089130
END:VEVENT
END:VCALENDAR
