BEGIN:VCALENDAR
VERSION:2.0
PRODID:-//hacksw/handcal//NONSGML v1.0//EN
BEGIN:VEVENT
SUMMARY:Entrainement Loisirs
UID:e52ba337-abf9-49be-a816-143bc76fe78b
DTSTART:20250107T200000Z
DTEND:20250107T213000Z
LOCATION:Salle Pierre de Coubertin 74 rue de la Tresoriere 16000 ANGOULEME
CATEGORIES:Entrainement
STATUS:
URL;VALUE=URI:https://www.angoulemebasketclub.fr/evenements/2025/01/07/entrainement-loisirs-2089213
END:VEVENT
END:VCALENDAR
