BEGIN:VCALENDAR
VERSION:2.0
PRODID:-//hacksw/handcal//NONSGML v1.0//EN
BEGIN:VEVENT
SUMMARY:Entrainement DM1 et DM2
UID:0c8723c9-d1f5-444d-9522-753708951412
DTSTART:20250107T181500Z
DTEND:20250107T200000Z
LOCATION:Salle Pierre de Coubertin 74 rue de la Tresoriere 16000 ANGOULEME
CATEGORIES:Entrainement
STATUS:
URL;VALUE=URI:https://www.angoulemebasketclub.fr/evenements/2025/01/07/entrainement-dm1-et-dm2-2089179
END:VEVENT
END:VCALENDAR
