BEGIN:VCALENDAR
VERSION:2.0
PRODID:-//hacksw/handcal//NONSGML v1.0//EN
BEGIN:VEVENT
SUMMARY:Entrainement U13 A
UID:e281e72c-06cc-4ecf-a069-1c2a9659e103
DTSTART:20250106T170000Z
DTEND:20250106T190000Z
LOCATION:Localisation Gymnase Pierre Bodet 16000 Angouleme
CATEGORIES:Entrainement
STATUS:
URL;VALUE=URI:https://www.angoulemebasketclub.fr/evenements/2025/01/06/entrainement-u13-a-2089097
END:VEVENT
END:VCALENDAR
