BEGIN:VCALENDAR
VERSION:2.0
PRODID:-//hacksw/handcal//NONSGML v1.0//EN
BEGIN:VEVENT
SUMMARY:Entrainement U13 F
UID:b7df0d80-5042-4f2b-a2d7-051da62aff97
DTSTART:20241230T171500Z
DTEND:20241230T190000Z
LOCATION:Salle Pierre de Coubertin 74 rue de la Tresoriere 16000 ANGOULEME
CATEGORIES:Entrainement
STATUS:
URL;VALUE=URI:https://www.angoulemebasketclub.fr/evenements/2024/12/30/entrainement-u13-f-2089062
END:VEVENT
END:VCALENDAR
