BEGIN:VCALENDAR
VERSION:2.0
PRODID:-//hacksw/handcal//NONSGML v1.0//EN
BEGIN:VEVENT
SUMMARY:Entrainement U13 F
UID:1c134090-fba9-4de6-9eef-9183ebe6bb41
DTSTART:20241223T171500Z
DTEND:20241223T190000Z
LOCATION:Salle Pierre de Coubertin 74 rue de la Tresoriere 16000 ANGOULEME
CATEGORIES:Entrainement
STATUS:
URL;VALUE=URI:https://www.angoulemebasketclub.fr/evenements/2024/12/23/entrainement-u13-f-2089061
END:VEVENT
END:VCALENDAR
