BEGIN:VCALENDAR
VERSION:2.0
PRODID:-//hacksw/handcal//NONSGML v1.0//EN
BEGIN:VEVENT
SUMMARY:Entrainement Baby
UID:e7fad15f-d387-4de1-86d7-2eccb4fbe1be
DTSTART:20241221T083000Z
DTEND:20241221T093000Z
LOCATION:Localisation Gymnase Pierre Bodet 16000 Angouleme
CATEGORIES:Entrainement
STATUS:
URL;VALUE=URI:https://www.angoulemebasketclub.fr/evenements/2024/12/21/entrainement-baby-2090172
END:VEVENT
END:VCALENDAR
