BEGIN:VCALENDAR
VERSION:2.0
PRODID:-//hacksw/handcal//NONSGML v1.0//EN
BEGIN:VEVENT
SUMMARY:Entrainement U18 1 et 2
UID:a6ce7e3c-bd2c-428f-99f5-ac95a974fe54
DTSTART:20241219T181500Z
DTEND:20241219T193000Z
LOCATION:Salle Pierre de Coubertin 74 rue de la Tresoriere 16000 ANGOULEME
CATEGORIES:Entrainement
STATUS:
URL;VALUE=URI:https://www.angoulemebasketclub.fr/evenements/2024/12/19/entrainement-u18-1-et-2-2089961
END:VEVENT
END:VCALENDAR
