BEGIN:VCALENDAR
VERSION:2.0
PRODID:-//hacksw/handcal//NONSGML v1.0//EN
BEGIN:VEVENT
SUMMARY:Entrainement U18 F
UID:164d7ebf-6e48-40c8-ac75-f51b5a07d218
DTSTART:20241218T161500Z
DTEND:20241218T174500Z
LOCATION:Salle Pierre de Coubertin 74 rue de la Tresoriere 16000 ANGOULEME
CATEGORIES:Entrainement
STATUS:
URL;VALUE=URI:https://www.angoulemebasketclub.fr/evenements/2024/12/18/entrainement-u18-f-2089284
END:VEVENT
END:VCALENDAR
