BEGIN:VCALENDAR
VERSION:2.0
PRODID:-//hacksw/handcal//NONSGML v1.0//EN
BEGIN:VEVENT
SUMMARY:Entrainement DM2
UID:7e4c8ddc-7219-45c4-864f-2041e6939183
DTSTART:20241218T193000Z
DTEND:20241218T213000Z
LOCATION:Localisation Gymnase Pierre Bodet 16000 Angouleme
CATEGORIES:Entrainement
STATUS:
URL;VALUE=URI:https://www.angoulemebasketclub.fr/evenements/2024/12/18/entrainement-dm2-2089463
END:VEVENT
END:VCALENDAR
