BEGIN:VCALENDAR
VERSION:2.0
PRODID:-//hacksw/handcal//NONSGML v1.0//EN
BEGIN:VEVENT
SUMMARY:Entrainement U13 B
UID:60e4ef08-e0c5-4aca-879d-64f1d44bf9dc
DTSTART:20241217T170000Z
DTEND:20241217T181500Z
LOCATION:Salle Pierre de Coubertin 74 rue de la Tresoriere 16000 ANGOULEME
CATEGORIES:Entrainement
STATUS:
URL;VALUE=URI:https://www.angoulemebasketclub.fr/evenements/2024/12/17/entrainement-u13-b-2089129
END:VEVENT
END:VCALENDAR
