BEGIN:VCALENDAR
VERSION:2.0
PRODID:-//hacksw/handcal//NONSGML v1.0//EN
BEGIN:VEVENT
SUMMARY:Entrainement DM1 et DM2
UID:2f677f6c-80cf-4134-932b-828d81c68bd2
DTSTART:20241217T181500Z
DTEND:20241217T200000Z
LOCATION:Salle Pierre de Coubertin 74 rue de la Tresoriere 16000 ANGOULEME
CATEGORIES:Entrainement
STATUS:
URL;VALUE=URI:https://www.angoulemebasketclub.fr/evenements/2024/12/17/entrainement-dm1-et-dm2-2089178
END:VEVENT
END:VCALENDAR
