BEGIN:VCALENDAR
VERSION:2.0
PRODID:-//hacksw/handcal//NONSGML v1.0//EN
BEGIN:VEVENT
SUMMARY:Entrainement U13 F
UID:ed111898-1509-4d83-808a-495c7eda9819
DTSTART:20241216T171500Z
DTEND:20241216T190000Z
LOCATION:Salle Pierre de Coubertin 74 rue de la Tresoriere 16000 ANGOULEME
CATEGORIES:Entrainement
STATUS:
URL;VALUE=URI:https://www.angoulemebasketclub.fr/evenements/2024/12/16/entrainement-u13-f-2089060
END:VEVENT
END:VCALENDAR
