BEGIN:VCALENDAR
VERSION:2.0
PRODID:-//hacksw/handcal//NONSGML v1.0//EN
BEGIN:VEVENT
SUMMARY:Entrainement Baby
UID:e78559ed-9256-4d58-8d62-2ee9226d0e9e
DTSTART:20241214T083000Z
DTEND:20241214T093000Z
LOCATION:Localisation Gymnase Pierre Bodet 16000 Angouleme
CATEGORIES:Entrainement
STATUS:
URL;VALUE=URI:https://www.angoulemebasketclub.fr/evenements/2024/12/14/entrainement-baby-2090171
END:VEVENT
END:VCALENDAR
