BEGIN:VCALENDAR
VERSION:2.0
PRODID:-//hacksw/handcal//NONSGML v1.0//EN
BEGIN:VEVENT
SUMMARY:Entrainement U18 G
UID:d2915d41-a564-4cae-93df-395cb6f6edcf
DTSTART:20241213T170000Z
DTEND:20241213T190000Z
LOCATION:Localisation Gymnase de la Grande Garenne 16000 Angouleme
CATEGORIES:Entrainement
STATUS:
URL;VALUE=URI:https://www.angoulemebasketclub.fr/evenements/2024/12/13/entrainement-u18-g-2090133
END:VEVENT
END:VCALENDAR
