BEGIN:VCALENDAR
VERSION:2.0
PRODID:-//hacksw/handcal//NONSGML v1.0//EN
BEGIN:VEVENT
SUMMARY:Entrainement U9 - U11
UID:ea9a91e3-c624-46c0-adfe-45f0da7f8b47
DTSTART:20241211T150000Z
DTEND:20241211T161500Z
LOCATION:Salle Pierre de Coubertin 74 rue de la Tresoriere 16000 ANGOULEME
CATEGORIES:Entrainement
STATUS:
URL;VALUE=URI:https://www.angoulemebasketclub.fr/evenements/2024/12/11/entrainement-u9-u11-2089244
END:VEVENT
END:VCALENDAR
